BEGIN:VCALENDAR
VERSION:2.0
PRODID:-//Ekonomernas Dagar - ECPv6.15.20//NONSGML v1.0//EN
CALSCALE:GREGORIAN
METHOD:PUBLISH
X-WR-CALNAME:Ekonomernas Dagar
X-ORIGINAL-URL:https://ekonomernasdagar.com
X-WR-CALDESC:Events for Ekonomernas Dagar
REFRESH-INTERVAL;VALUE=DURATION:PT1H
X-Robots-Tag:noindex
X-PUBLISHED-TTL:PT1H
BEGIN:VTIMEZONE
TZID:Europe/Stockholm
BEGIN:DAYLIGHT
TZOFFSETFROM:+0100
TZOFFSETTO:+0200
TZNAME:CEST
DTSTART:20230326T010000
END:DAYLIGHT
BEGIN:STANDARD
TZOFFSETFROM:+0200
TZOFFSETTO:+0100
TZNAME:CET
DTSTART:20231029T010000
END:STANDARD
BEGIN:DAYLIGHT
TZOFFSETFROM:+0100
TZOFFSETTO:+0200
TZNAME:CEST
DTSTART:20240331T010000
END:DAYLIGHT
BEGIN:STANDARD
TZOFFSETFROM:+0200
TZOFFSETTO:+0100
TZNAME:CET
DTSTART:20241027T010000
END:STANDARD
BEGIN:DAYLIGHT
TZOFFSETFROM:+0100
TZOFFSETTO:+0200
TZNAME:CEST
DTSTART:20250330T010000
END:DAYLIGHT
BEGIN:STANDARD
TZOFFSETFROM:+0200
TZOFFSETTO:+0100
TZNAME:CET
DTSTART:20251026T010000
END:STANDARD
END:VTIMEZONE
BEGIN:VEVENT
DTSTART;TZID=Europe/Stockholm:20241007T130000
DTEND;TZID=Europe/Stockholm:20241007T150000
DTSTAMP:20260421T155323
CREATED:20240909T215031Z
LAST-MODIFIED:20240919T092258Z
UID:6346-1728306000-1728313200@ekonomernasdagar.com
SUMMARY:Workshop: How to build a CV
DESCRIPTION:Are you curious about how to build the perfect CV?  \nTuesday October 7th we are hosting a CV workshop together with Deloitte and Nordea\, where they will give you all their best tips for applications and interviews. \n  \nFollow along on our social media for more updates on the CV workshop.  \nSign up for the event here – https://link.orbiapp.io/oTWn
URL:https://ekonomernasdagar.com/event/workshop-how-to-build-a-cv/
LOCATION:Albano Hus 2\, Vån 3\, Hörsal 6\, Roslagstullsbacken 21\, Stockholm\, 11421\, Sweden
END:VEVENT
BEGIN:VEVENT
DTSTART;TZID=Europe/Stockholm:20240912T190000
DTEND;TZID=Europe/Stockholm:20240912T230000
DTSTAMP:20260421T155323
CREATED:20240827T102350Z
LAST-MODIFIED:20240909T214248Z
UID:6240-1726167600-1726182000@ekonomernasdagar.com
SUMMARY:Networking Soirée - Master´s Club x ED
DESCRIPTION:Join us at the first ED event of the year on September 12th from 19:00-23:00!  \nThe networking Soiree focuses on enhancing Masters’ students’ careers and networking opportunities with Alumni! Mingle with fellow Masters’ students and company representatives! \nSign up for the event here – https://link.orbiapp.io/2QoS \n 
URL:https://ekonomernasdagar.com/event/networking-soiree/
LOCATION:Proviant at Campus Albano\, Albanovägen 24\, 114 19 Stockholm\, Stockholm\, Sweden
END:VEVENT
END:VCALENDAR